BEGIN:VCALENDAR
VERSION:2.0
PRODID:-//ChamberMaster//Event Calendar 2.0//EN
METHOD:PUBLISH
X-PUBLISHED-TTL:P3D
REFRESH-INTERVAL:P3D
CALSCALE:GREGORIAN
BEGIN:VEVENT
DTSTART:20190316T010000Z
DTEND:20190316T010000Z
X-MICROSOFT-CDO-ALLDAYEVENT:FALSE
SUMMARY:Paint Night-Little Dimples Playground
DESCRIPTION:Join us for Mommy & Me PAINT NIGHT!!!\n\nSnacks & Drinks will be provided
X-ALT-DESC;FMTTYPE=text/html:Join us for Mommy &amp\; Me PAINT NIGHT!!!<br />\nSnacks &amp\; Drinks will be provided&nbsp\;
LOCATION:Little Dimples Playground 1415 N. Montebello Blvd. Montebello\, CA 9640
UID:e.1156.3260
SEQUENCE:3
DTSTAMP:20260420T142653Z
URL:https://www.montebellochamber.org/events/details/paint-night-little-dimples-playground-3260
END:VEVENT

END:VCALENDAR
