BEGIN:VCALENDAR
VERSION:2.0
PRODID:-//ChamberMaster//Event Calendar 2.0//EN
METHOD:PUBLISH
X-PUBLISHED-TTL:P3D
REFRESH-INTERVAL:P3D
CALSCALE:GREGORIAN
BEGIN:VEVENT
DTSTART:20180710T020000Z
DTEND:20180710T040000Z
X-MICROSOFT-CDO-ALLDAYEVENT:FALSE
SUMMARY:Paint Nite
DESCRIPTION:Angry Horse Brewing has teamed up with Paint Nite Los Angeles for the month of July. Every Monday night we will host them as they conduct Paint Nite in the taproom. Every week will be a different painting.\n\n\n\nThe painting for Monday\, July 9th is Flower Skull Beauty. The Paint Nite event will be run by Otman Perez. This class is recommended for ages 6+. \n\n\n\nTickets are $45 but if you sign up using the discount code LOVE27 they will only be $27.00. Tickets can be purchased in advance. Follow the ticket URL link. \n\n\n\nWe'll also have Tortas Las Jarochitas parked out back starting at 5pm! \n\n\n\nABOUT PAINT NITE\n\nPaint Nite Los Angeles is invading bars and restaurants near you with everything you need to create a one-of-a-kind painting. We'll guide you and your friends through two lively hours of creativity\, drinking\, and laughing 'til your cheeks hurt. The best part? You don't have to be an artist to have an amazing time.
X-ALT-DESC;FMTTYPE=text/html:<div class="_63eu _63ev" style="box-sizing: border-box\; font-size: 14px\; max-height: none\; overflow: visible\; padding: 12px\; word-wrap: break-word\; font-family: Helvetica\, Arial\, sans-serif\; color: rgb(29\, 33\, 41)\;">\n<div class="_63ew" data-testid="event-permalink-details" style="font-family: inherit\;"><span style="font-family: inherit\;">Angry Horse Brewing has teamed up with Paint Nite Los Angeles for the month of July. Every Monday night we will host them as they conduct Paint Nite in the taproom. Every week will be a different painting.<br />\n<br />\nThe painting for Monday\, July 9th is Flower Skull Beauty. The Paint Nite event will be run by Otman Perez. This class is recommended for ages 6+.&nbsp\;<br />\n<br />\nTickets are $45 but if you sign up using the discount code LOVE27 they will only be $27.00. Tickets can be purchased in advance. Follow the ticket URL link.&nbsp\;<br />\n<br />\nWe&rsquo\;ll also have Tortas Las Jarochitas parked out back starting at 5pm!&nbsp\;<br />\n<br />\nABOUT PAINT NITE<br />\nPaint Nite Los Angeles is invading bars and restaurants near you with everything you need to create a one-of-a-kind painting. We&rsquo\;ll guide you and your friends through two lively hours of creativity\, drinking\, and laughing &lsquo\;til your cheeks hurt. The best part? You don&rsquo\;t have to be an artist to have an amazing time.</span></div>\n\n<div>&nbsp\;</div>\n</div>\n
LOCATION:Angry Horse Brewing 603 W. Whittier Blvd Montebello\, CA 90640
UID:e.1156.2629
SEQUENCE:3
DTSTAMP:20260419T184126Z
URL:https://www.montebellochamber.org/events/details/paint-nite-2629
END:VEVENT

END:VCALENDAR
