BEGIN:VCALENDAR
VERSION:2.0
PRODID:-//ChamberMaster//Event Calendar 2.0//EN
METHOD:PUBLISH
X-PUBLISHED-TTL:P3D
REFRESH-INTERVAL:P3D
CALSCALE:GREGORIAN
BEGIN:VEVENT
DTSTART:20191103T200000Z
DTEND:20191103T230000Z
X-MICROSOFT-CDO-ALLDAYEVENT:FALSE
SUMMARY:Paint & Sip Presented by Montebello Soroptimist
DESCRIPTION:Montebello Soroptimist Presents Paint & Sip...includes lunch\, beverages & paint supplies. Benefits Dream Programs!
X-ALT-DESC;FMTTYPE=text/html:Montebello Soroptimist Presents Paint &amp\; Sip...includes lunch\, beverages &amp\; paint supplies. Benefits Dream Programs!&nbsp\;
LOCATION:Montebello Senior Villas 2051 W. Whittier Blvd. Montebello\, CA 90640
UID:e.1156.3458
SEQUENCE:3
DTSTAMP:20260419T160046Z
URL:https://www.montebellochamber.org/events/details/paint-sip-presented-by-montebello-soroptimist-3458
END:VEVENT

END:VCALENDAR
