BEGIN:VCALENDAR
VERSION:2.0
PRODID:-//ChamberMaster//Event Calendar 2.0//EN
METHOD:PUBLISH
X-PUBLISHED-TTL:P3D
REFRESH-INTERVAL:P3D
CALSCALE:GREGORIAN
BEGIN:VEVENT
DTSTART;VALUE=DATE:20180921
DTEND;VALUE=DATE:20180922
TRANSP:TRANSPARENT
X-MICROSOFT-CDO-ALLDAYEVENT:TRUE
SUMMARY:Paint & Sip with Soroptomist
DESCRIPTION:Montebello Soroptomist invites you to\n\nPaint and Sip\n\n\n\nCome create a masterpiece!  $40 ticket includes wine\, appetizers and paint lesson.  Proceeds will fund the "Live Your Dream" Award.
X-ALT-DESC;FMTTYPE=text/html:Montebello Soroptomist invites you to<br />\nPaint and Sip<br />\n<br />\nCome create a masterpiece!&nbsp\; $40 ticket includes wine\, appetizers and paint lesson.&nbsp\; Proceeds will fund the &quot\;Live Your Dream&quot\; Award.
LOCATION:TBA
UID:e.1156.2861
SEQUENCE:3
DTSTAMP:20260419T202134Z
URL:https://www.montebellochamber.org/events/details/paint-sip-with-soroptomist-2861
END:VEVENT

END:VCALENDAR
