BEGIN:VCALENDAR
VERSION:2.0
PRODID:-//ChamberMaster//Event Calendar 2.0//EN
METHOD:PUBLISH
X-PUBLISHED-TTL:P3D
REFRESH-INTERVAL:P3D
CALSCALE:GREGORIAN
BEGIN:VEVENT
DTSTART;VALUE=DATE:20181103
DTEND;VALUE=DATE:20181104
TRANSP:TRANSPARENT
X-MICROSOFT-CDO-ALLDAYEVENT:TRUE
SUMMARY:Pancake Breakfast hosted by Montebello Fire Department
DESCRIPTION:Pancake Breakfast hosted by Montebello Fire Department \n\nJoin us for Station Tour\, Face Painting\, Balloon Animals\, Pictures and of course Pancakes!!
X-ALT-DESC;FMTTYPE=text/html:Pancake Breakfast hosted by Montebello Fire Department&nbsp\;<br />\nJoin us for Station Tour\, Face Painting\, Balloon Animals\, Pictures and of course Pancakes!!
LOCATION:600 N. Montebello Blvd. Montebello\, CA 90640
UID:e.1156.3103
SEQUENCE:3
DTSTAMP:20260419T184433Z
URL:https://www.montebellochamber.org/events/details/pancake-breakfast-hosted-by-montebello-fire-department-3103
END:VEVENT

END:VCALENDAR
