BEGIN:VCALENDAR
VERSION:2.0
PRODID:-//ChamberMaster//Event Calendar 2.0//EN
METHOD:PUBLISH
X-PUBLISHED-TTL:P3D
REFRESH-INTERVAL:P3D
CALSCALE:GREGORIAN
BEGIN:VEVENT
DTSTART:20181020T170000Z
DTEND:20181020T230000Z
X-MICROSOFT-CDO-ALLDAYEVENT:FALSE
SUMMARY:Parade & Festival - City of Montebello's 98th Anniversary
DESCRIPTION:Come celebrate the 98th Anniversary of the City of Montebello with a parade and festival at City Park!
X-ALT-DESC;FMTTYPE=text/html:Come celebrate the 98th Anniversary of the City of Montebello with a parade and festival at City Park!
LOCATION:City Park 1301 W. Whittier Blvd. Montebello\, CA 90640
UID:e.1156.2854
SEQUENCE:3
DTSTAMP:20260419T202910Z
URL:https://www.montebellochamber.org/events/details/parade-festival-city-of-montebello-s-98th-anniversary-2854
END:VEVENT

END:VCALENDAR
