BEGIN:VCALENDAR
VERSION:2.0
PRODID:-//ChamberMaster//Event Calendar 2.0//EN
METHOD:PUBLISH
X-PUBLISHED-TTL:P3D
REFRESH-INTERVAL:P3D
CALSCALE:GREGORIAN
BEGIN:VEVENT
DTSTART:20190221T030000Z
DTEND:20190221T043000Z
X-MICROSOFT-CDO-ALLDAYEVENT:FALSE
SUMMARY:Parent Workshop
DESCRIPTION:Parent Workshop on Discipline vs Punishment \n\nPresented by David Ghoogasian Principal/Educational Consultant\n\nWorking towards raising healthy children! \n\n\n\nDiscipline having a child solve a problem.  Punishment is making a child suffer for having a problem solvers\, focus on solutions not retribution.\n\n                                                                                       -L.R. Knost
X-ALT-DESC;FMTTYPE=text/html:Parent Workshop on Discipline vs Punishment&nbsp\;<br />\nPresented by David Ghoogasian Principal/Educational Consultant<br />\nWorking towards raising healthy children!&nbsp\;<br />\n<br />\nDiscipline having a child solve a problem.&nbsp\; Punishment is making a child suffer for having a problem solvers\, focus on solutions not retribution.<br />\n&nbsp\; &nbsp\; &nbsp\; &nbsp\; &nbsp\; &nbsp\; &nbsp\; &nbsp\; &nbsp\; &nbsp\; &nbsp\; &nbsp\; &nbsp\; &nbsp\; &nbsp\; &nbsp\; &nbsp\; &nbsp\; &nbsp\; &nbsp\; &nbsp\; &nbsp\; &nbsp\; &nbsp\; &nbsp\; &nbsp\; &nbsp\; &nbsp\; &nbsp\; &nbsp\; &nbsp\; &nbsp\; &nbsp\; &nbsp\; &nbsp\; &nbsp\; &nbsp\; &nbsp\; &nbsp\; &nbsp\; &nbsp\; &nbsp\; &nbsp\; &nbsp\;-L.R. Knost&nbsp\;
LOCATION:Armenian Mesrobian School 8420 Beverly Road Pico Rivera\, CA 90660
UID:e.1156.3243
SEQUENCE:3
DTSTAMP:20260419T130008Z
URL:https://www.montebellochamber.org/events/details/parent-workshop-3243
END:VEVENT

END:VCALENDAR
