BEGIN:VCALENDAR
VERSION:2.0
PRODID:-//ChamberMaster//Event Calendar 2.0//EN
METHOD:PUBLISH
X-PUBLISHED-TTL:P3D
REFRESH-INTERVAL:P3D
CALSCALE:GREGORIAN
BEGIN:VEVENT
DTSTART:20190310T200000Z
DTEND:20190310T230000Z
X-MICROSOFT-CDO-ALLDAYEVENT:FALSE
SUMMARY:"Passion for Fashion" Fashion Show & Luncheon
DESCRIPTION:Armenian Mesrobian School presents Passion for Fashion!  Fashion Show & Luncheon organized by the Parent Faculty Club.
X-ALT-DESC;FMTTYPE=text/html:Armenian Mesrobian School presents Passion for Fashion!&nbsp\; Fashion Show &amp\; Luncheon organized by the Parent Faculty Club.&nbsp\;
LOCATION:Bagramian Hall 900 W. Lincoln Ave. Montebello\, CA 90640
UID:e.1156.3200
SEQUENCE:3
DTSTAMP:20260419T161435Z
URL:https://www.montebellochamber.org/events/details/passion-for-fashion-fashion-show-luncheon-3200
END:VEVENT

END:VCALENDAR
