BEGIN:VCALENDAR
VERSION:2.0
PRODID:-//ChamberMaster//Event Calendar 2.0//EN
METHOD:PUBLISH
X-PUBLISHED-TTL:P3D
REFRESH-INTERVAL:P3D
CALSCALE:GREGORIAN
BEGIN:VEVENT
DTSTART:20141012T170000Z
DTEND:20141012T230000Z
X-MICROSOFT-CDO-ALLDAYEVENT:FALSE
SUMMARY:Pawpurrazi Red Carpet Event
DESCRIPTION:Hilton Garden Inn Los Angeles Montebello and the San Gabriel Valley Humane Society host their 1st Annual Pawpurrazi Red Carpet Fund-Raiser Event. Walk down the red carpet with your furry best friend as pawpurrazi awaits to take your picture. Enjoy a day full of activities\, games\,food and raffle prizes. Come and meet eligible pets for adoption!
X-ALT-DESC;FMTTYPE=text/html:Hilton Garden Inn Los Angeles Montebello and the San Gabriel Valley Humane Society host their 1st Annual Pawpurrazi Red Carpet Fund-Raiser Event. Walk down the red carpet with your furry best friend as pawpurrazi awaits to take your picture. Enjoy a day full of activities\, games\,food and raffle prizes. Come and meet eligible pets for adoption!
LOCATION:Hilton Garden Inn Los Angeles Montebello
UID:e.1156.1083
SEQUENCE:3
DTSTAMP:20260419T143413Z
URL:https://www.montebellochamber.org/events/details/pawpurrazi-red-carpet-event-10-12-2014-1083
END:VEVENT

END:VCALENDAR
