BEGIN:VCALENDAR
VERSION:2.0
PRODID:-//ChamberMaster//Event Calendar 2.0//EN
METHOD:PUBLISH
X-PUBLISHED-TTL:P3D
REFRESH-INTERVAL:P3D
CALSCALE:GREGORIAN
BEGIN:VEVENT
DTSTART:20191120T170000Z
DTEND:20191120T180000Z
X-MICROSOFT-CDO-ALLDAYEVENT:FALSE
SUMMARY:Personal Training Assessments @ The Shops at Montebello
DESCRIPTION:Join The The Shops at Montebello + Montebello-Commerce YMCA for a FUN and ACTIVE hour the 3rd Wednesday of every month! WellnessWednesday will feature healthy snacks\, tips and tricks on wellness and giveaways. All levels welcome.\nFree event hosted at Center
X-ALT-DESC;FMTTYPE=text/html:<p>Join The The Shops at Montebello + Montebello-Commerce YMCA for a FUN and ACTIVE hour the 3rd Wednesday of every month! WellnessWednesday will feature healthy snacks\, tips and tricks on wellness and giveaways. All levels welcome.</p>\nFree event hosted at Center<br />\n&nbsp\;
LOCATION:The Shops at Montebello - Center Court (across from Forever 21) 2134 Town Center Drive Montebello\, CA 90640
UID:e.1156.3380
SEQUENCE:3
DTSTAMP:20260419T160150Z
URL:https://www.montebellochamber.org/events/details/personal-training-assessments-the-shops-at-montebello-3380
END:VEVENT

END:VCALENDAR
