BEGIN:VCALENDAR
VERSION:2.0
PRODID:-//ChamberMaster//Event Calendar 2.0//EN
METHOD:PUBLISH
X-PUBLISHED-TTL:P3D
REFRESH-INTERVAL:P3D
CALSCALE:GREGORIAN
BEGIN:VEVENT
DTSTART:20181210T043000Z
DTEND:20181210T053000Z
X-MICROSOFT-CDO-ALLDAYEVENT:FALSE
SUMMARY:Pet Photos with Santa at The Shops at Montebello
DESCRIPTION:Pet Photos with Santa\n\n\nSanta Photo Experience\n\n \n\n\n\nBring your furry friend for photos with Santa on:\n\nSunday\, December 9\, from 8:30pm to 9:30pm
X-ALT-DESC;FMTTYPE=text/html:<h1 class="header-md item-title" itemprop="name" style="box-sizing: inherit\; margin: 1.596rem 0px 0.6414rem\; padding: 0px\; font-size: 1.596rem\; font-weight: 400\; line-height: 1\; font-family: SimonCircularPro-Bold\, sans-serif\; letter-spacing: -0.03em\; background-color: rgb(255\, 255\, 255)\;">Pet Photos with Santa</h1>\n\n<div itemprop="location" itemscope="" itemtype="http://schema.org/Place" style="box-sizing: inherit\; font-family: SimonCircularPro-Book\, sans-serif\; font-size: 21.6px\; background-color: rgb(255\, 255\, 255)\;">\n<p class="item-store-name" itemprop="name" style="box-sizing: inherit\; margin: 0px 0px 1.596rem\; padding: 0px\; font-size: 0.92361rem\;">Santa Photo Experience</p>\n\n<div itemprop="address" itemscope="" itemtype="http://schema.org/PostalAddress" style="box-sizing: inherit\;">&nbsp\;</div>\n</div>\n\n<div class="item-desc" itemprop="description" style="box-sizing: inherit\; font-family: SimonCircularPro-Book\, sans-serif\; font-size: 21.6px\; background-color: rgb(255\, 255\, 255)\;">\n<p style="box-sizing: inherit\; margin: 0px 0px 0.6414rem\; padding: 0px\; font-size: 0.92361rem\;">Bring your furry friend for photos with Santa on:</p>\n\n<p style="box-sizing: inherit\; margin: 0px 0px 0.6414rem\; padding: 0px\; font-size: 0.92361rem\;">Sunday\, December 9\, from 8:30pm to 9:30pm</p>\n</div>\n
LOCATION:The Shops at Montebello Mall (Center Court) 2134 Montebello Town Center Dr. Montebello\, CA 90640
UID:e.1156.3113
SEQUENCE:3
DTSTAMP:20260419T160545Z
URL:https://www.montebellochamber.org/events/details/pet-photos-with-santa-at-the-shops-at-montebello-3113
END:VEVENT

END:VCALENDAR
