BEGIN:VCALENDAR
VERSION:2.0
PRODID:-//ChamberMaster//Event Calendar 2.0//EN
METHOD:PUBLISH
X-PUBLISHED-TTL:P3D
REFRESH-INTERVAL:P3D
CALSCALE:GREGORIAN
BEGIN:VEVENT
DTSTART;VALUE=DATE:20190923
DTEND;VALUE=DATE:20190924
TRANSP:TRANSPARENT
X-MICROSOFT-CDO-ALLDAYEVENT:TRUE
SUMMARY:PIH Health Golf Tournament - 2019 Frank Scott Pro/AM
DESCRIPTION:PIH Health Foundation presents\n\n2019 Frank Scott Pro/AM Golf Tournament\n\n\n\nFunds raised at the golf tournament will support programs\, services and patient care to benefit those PIH Health serves.  This vital source of funding will help address the greatest needs within the organization as they continue to ensure quality healthcare for all who need it.  If you are interested in participating\, please contact PIH Health Foundation at the number or email address for this event.
X-ALT-DESC;FMTTYPE=text/html:PIH Health Foundation presents<br />\n2019 Frank Scott Pro/AM Golf Tournament<br />\n<br />\nFunds raised at the golf tournament will support programs\, services and patient care to benefit those PIH Health serves.&nbsp\; This vital source of funding will help address the greatest needs within the organization as they continue to ensure quality healthcare for all who need it.&nbsp\; If you are interested in participating\, please contact PIH Health Foundation at the number or email address for this event.
LOCATION:Friendly Hills Country Club 8500 Villaverde Dr\, Whittier\, CA 90605
UID:e.1156.3361
SEQUENCE:3
DTSTAMP:20260422T114620Z
URL:https://www.montebellochamber.org/events/details/pih-health-golf-tournament-2019-frank-scott-pro-am-3361
END:VEVENT

END:VCALENDAR
