BEGIN:VCALENDAR
VERSION:2.0
PRODID:-//ChamberMaster//Event Calendar 2.0//EN
METHOD:PUBLISH
X-PUBLISHED-TTL:P3D
REFRESH-INTERVAL:P3D
CALSCALE:GREGORIAN
BEGIN:VEVENT
DTSTART:20190105T010000Z
DTEND:20190105T060000Z
X-MICROSOFT-CDO-ALLDAYEVENT:FALSE
SUMMARY:Pizza Night @ Angry Horse Brewing
DESCRIPTION:Friday is Pizza Night at the taproom! Our friends\, The Home Slice Pizza will be parked up at the taproom every Friday in January.\n\n\n\nHaven't tried them? They make wood-fire personal pizzas and have vegan and lactose options!\n\n\n\nOur personal favorite is their new recipe\, The Angry Horse. It's Canadian bacon with seasoned yellow peppers\, diced jalapeños and red onion. It pairs well with our East LA IPA : )\n\n\n\nFood service starts at 5pm and continues through the night until they are sold out.
X-ALT-DESC;FMTTYPE=text/html:<span>Friday is Pizza Night at the taproom! Our friends\, <a href="https://www.facebook.com/LAhomeslice/" target="_blank">The Home Slice Pizza</a> will be parked up at the taproom every Friday in January.<br>\n<br>\nHaven't tried them? They make wood-fire personal pizzas and have vegan and lactose options!<br>\n<br>\nOur personal favorite is their new recipe\, The Angry Horse. It's Canadian bacon with seasoned yellow peppers\, diced jalapeños and red onion. It pairs well with our East LA IPA : )<br>\n<br>\nFood service starts at 5pm and continues through the night until they are sold out.</span>
LOCATION:Angry Horse Brewing 603 W. Whittier Blvd. Montebello\, CA 90640
UID:e.1156.3144
SEQUENCE:3
DTSTAMP:20260419T143239Z
URL:https://www.montebellochamber.org/events/details/pizza-night-angry-horse-brewing-3144
END:VEVENT

END:VCALENDAR
