BEGIN:VCALENDAR
VERSION:2.0
PRODID:-//ChamberMaster//Event Calendar 2.0//EN
METHOD:PUBLISH
X-PUBLISHED-TTL:P3D
REFRESH-INTERVAL:P3D
CALSCALE:GREGORIAN
BEGIN:VEVENT
DTSTART:20160805T023000Z
DTEND:20160805T043000Z
X-MICROSOFT-CDO-ALLDAYEVENT:FALSE
SUMMARY:Play - Vianney Renewing the Heart of the Church
DESCRIPTION:Saint Luke Productions Presents\n\n'Vianney - Renewing the Heart of the Church'\n\nPerformed by Leonardo Defilippis\n\n\n\nwww.VianneyDrama.com
X-ALT-DESC;FMTTYPE=text/html:Saint Luke Productions Presents<br />\n&#39\;Vianney -&nbsp\;Renewing the Heart of the Church&#39\;<br />\nPerformed by Leonardo Defilippis<br />\n<br />\nwww.VianneyDrama.com
LOCATION:Our Lady of the Miraculous Medal Church 820 N. Garfield Ave. Montebello\, CA 90640
UID:e.1156.1497
SEQUENCE:3
DTSTAMP:20260419T161220Z
URL:https://www.montebellochamber.org/events/details/play-vianney-renewing-the-heart-of-the-church-08-04-2016-1497
END:VEVENT

END:VCALENDAR
