BEGIN:VCALENDAR
VERSION:2.0
PRODID:-//ChamberMaster//Event Calendar 2.0//EN
METHOD:PUBLISH
X-PUBLISHED-TTL:P3D
REFRESH-INTERVAL:P3D
CALSCALE:GREGORIAN
BEGIN:VEVENT
DTSTART:20180428T220000Z
DTEND:20180429T030000Z
X-MICROSOFT-CDO-ALLDAYEVENT:FALSE
SUMMARY:Poker Tournament
DESCRIPTION:Bosco Tech\n\nPoker Tournament\n\nProceeds to benefit Athletic Field lights\n\nSponsored by the Salesians of Don Bosco\n\n\n\n$60 BUY-IN\n\nSpectator Fee: $20\n\nRe-Buys: $25 / Add-On: $25 (Limit one add-on per player)\n\n*Buy-In and spectator fee includes dinner and drink.*
X-ALT-DESC;FMTTYPE=text/html:<div style="text-align: center\;">Bosco Tech<br />\nPoker Tournament<br />\nProceeds to benefit Athletic Field lights<br />\nSponsored by the Salesians of Don Bosco<br />\n<br />\n$60 BUY-IN<br />\nSpectator Fee: $20<br />\nRe-Buys: $25 / Add-On: $25 (Limit one add-on per player)<br />\n*Buy-In and spectator fee includes dinner and drink.*</div>\n
LOCATION:Bosco Tech 1151 San Gabriel Blvd. Rosemead\, CA 91770
UID:e.1156.2556
SEQUENCE:3
DTSTAMP:20260419T143134Z
URL:https://www.montebellochamber.org/events/details/poker-tournament-2556
END:VEVENT

END:VCALENDAR
