BEGIN:VCALENDAR
VERSION:2.0
PRODID:-//ChamberMaster//Event Calendar 2.0//EN
METHOD:PUBLISH
X-PUBLISHED-TTL:P3D
REFRESH-INTERVAL:P3D
CALSCALE:GREGORIAN
BEGIN:VEVENT
DTSTART:20191204T190000Z
DTEND:20191204T220000Z
X-MICROSOFT-CDO-ALLDAYEVENT:FALSE
SUMMARY:Police Chief's Holiday Luncheon & Toy Drive
DESCRIPTION:Annual Holiday Lunch & Toy Drive\n\nHosted by Police Chief Brad Keller\n\n\n\nEvent Sponsors:\n\nBuffet Sponsor: John Rio\, Rio's Pizza\n\nToy Sponsors: Chevrolet of Montebello\, Helms & Hill Towing\, Brewer Baseball Teams
X-ALT-DESC;FMTTYPE=text/html:Annual Holiday Lunch &amp\; Toy Drive<br />\nHosted by Police Chief Brad Keller<br />\n<br />\nEvent Sponsors:<br />\nBuffet Sponsor: John Rio\, Rio&#39\;s Pizza<br />\nToy Sponsors: Chevrolet of Montebello\, Helms &amp\; Hill Towing\, Brewer Baseball Teams
LOCATION:The Ark (formerly Calvary Chapel) 931 S. Maple Avenue Montebello\, CA 90640
UID:e.1156.3489
SEQUENCE:3
DTSTAMP:20260419T143733Z
URL:https://www.montebellochamber.org/events/details/police-chief-s-holiday-luncheon-toy-drive-3489
END:VEVENT

END:VCALENDAR
