BEGIN:VCALENDAR
VERSION:2.0
PRODID:-//ChamberMaster//Event Calendar 2.0//EN
METHOD:PUBLISH
X-PUBLISHED-TTL:P3D
REFRESH-INTERVAL:P3D
CALSCALE:GREGORIAN
BEGIN:VEVENT
DTSTART:20190318T170000Z
DTEND:20190318T190000Z
X-MICROSOFT-CDO-ALLDAYEVENT:FALSE
SUMMARY:POLLY'S PIES IS HIRING-JOB FAIRE
DESCRIPTION:AMERICAN JOB CENTER/AYE \n\nPolly's Pies is looking to hire for cooks\, shift supervisors\, assistant managers\, and general managers.  Don't miss this opportunity to be part of a great company!
X-ALT-DESC;FMTTYPE=text/html:AMERICAN JOB CENTER/AYE&nbsp\;<br />\nPolly&#39\;s Pies is looking to hire for cooks\, shift supervisors\, assistant managers\, and general managers.&nbsp\; Don&#39\;t miss this opportunity to be part of a great company!&nbsp\;
LOCATION:Event Location: East Los Angeles West San Gabriel Valley AJCC 5301 Whittier Blvd.\, 2nd floor Los Angeles\, CA 90022
UID:e.1156.3256
SEQUENCE:3
DTSTAMP:20260420T144537Z
URL:https://www.montebellochamber.org/events/details/polly-s-pies-is-hiring-job-faire-3256
END:VEVENT

END:VCALENDAR
