BEGIN:VCALENDAR
VERSION:2.0
PRODID:-//ChamberMaster//Event Calendar 2.0//EN
METHOD:PUBLISH
X-PUBLISHED-TTL:P3D
REFRESH-INTERVAL:P3D
CALSCALE:GREGORIAN
BEGIN:VEVENT
DTSTART:20181020T170000Z
DTEND:20181020T210000Z
X-MICROSOFT-CDO-ALLDAYEVENT:FALSE
SUMMARY:Preparedness Coalition Emergency Fair
DESCRIPTION:Don Bosco Technical Institute and South San Gabriel-Rosemead Preparedness Coalition invite you to their Emergency Fair - Bracing for the "Big One".  Disasters happen.  Be ready.\n\n\n\nWhen you live in Southern California\, be prepared for earthquakes and fires!  Learn how to prepare you and your loved ones for an emergency. \n\nFun-Food-Kids Activities-Workshops and information-Free Admission-Free Parking-Giveaways
X-ALT-DESC;FMTTYPE=text/html:Don Bosco Technical Institute and South San Gabriel-Rosemead Preparedness Coalition invite you to their Emergency Fair - Bracing for the &quot\;Big One&quot\;.&nbsp\; Disasters happen.&nbsp\; Be ready.<br />\n<br />\nWhen you live in Southern California\, be prepared for earthquakes and fires!&nbsp\;&nbsp\;<strong>Learn how to prepare you and your loved ones for an emergency.&nbsp\;</strong><br />\nFun-Food-Kids Activities-Workshops and information-Free Admission-Free Parking-Giveaways&nbsp\;
LOCATION:Don Bosco Technical Institute 1151 San Gabriel Blvd. Rosemead\, CA 91770
UID:e.1156.3089
SEQUENCE:3
DTSTAMP:20260419T184945Z
URL:https://www.montebellochamber.org/events/details/preparedness-coalition-emergency-fair-3089
END:VEVENT

END:VCALENDAR
