BEGIN:VCALENDAR
VERSION:2.0
PRODID:-//ChamberMaster//Event Calendar 2.0//EN
METHOD:PUBLISH
X-PUBLISHED-TTL:P3D
REFRESH-INTERVAL:P3D
CALSCALE:GREGORIAN
BEGIN:VEVENT
DTSTART:20190907T180000Z
DTEND:20190907T190000Z
X-MICROSOFT-CDO-ALLDAYEVENT:FALSE
SUMMARY:Pro Baseball Celeb Appearance: Joc Pederson
DESCRIPTION:Harry's Dugout presents a special appearance by Joc Pederson of the L.A. Dodgers!!
X-ALT-DESC;FMTTYPE=text/html:Harry&#39\;s Dugout presents a special appearance by Joc Pederson of the L.A. Dodgers!!<br />\n<br />\n&nbsp\;
LOCATION:Harry's Memorabilia & Barber Shop 1435 N. Montebello Blvd. Montebello\, CA 90640
UID:e.1156.3393
SEQUENCE:3
DTSTAMP:20260422T113654Z
URL:https://www.montebellochamber.org/events/details/pro-baseball-celeb-appearance-joc-pederson-3393
END:VEVENT

END:VCALENDAR
