BEGIN:VCALENDAR
VERSION:2.0
PRODID:-//ChamberMaster//Event Calendar 2.0//EN
METHOD:PUBLISH
X-PUBLISHED-TTL:P3D
REFRESH-INTERVAL:P3D
CALSCALE:GREGORIAN
BEGIN:VEVENT
DTSTART:20190906T024500Z
DTEND:20190906T034500Z
X-MICROSOFT-CDO-ALLDAYEVENT:FALSE
SUMMARY:Pro Baseball Celeb Appearance Walker Buehler & Matt Beaty
DESCRIPTION:Harry's Dugout presents a special appearance by Walker Buehler and Matt Beaty of the L.A. Dodgers
X-ALT-DESC;FMTTYPE=text/html:Harry&#39\;s Dugout presents a special appearance by Walker Buehler and Matt Beaty of the L.A. Dodgers
LOCATION:Harry's Memorabilia & Barber & Shop 1435 N. Montebello Blvd. Montebello\, CA 90640
UID:e.1156.3394
SEQUENCE:3
DTSTAMP:20260422T113720Z
URL:https://www.montebellochamber.org/events/details/pro-baseball-celeb-appearance-walker-buehler-matt-beaty-3394
END:VEVENT

END:VCALENDAR
