BEGIN:VCALENDAR
VERSION:2.0
PRODID:-//ChamberMaster//Event Calendar 2.0//EN
METHOD:PUBLISH
X-PUBLISHED-TTL:P3D
REFRESH-INTERVAL:P3D
CALSCALE:GREGORIAN
BEGIN:VEVENT
DTSTART:20190413T164500Z
DTEND:20190413T203000Z
X-MICROSOFT-CDO-ALLDAYEVENT:FALSE
SUMMARY:Pro Baseball Celebrity Appearance at Harry's
DESCRIPTION:Harry's Dugout along with GTSM proudly presents Dodgers future ace Walker Buehler and Angels All-Star/Silver Slugger winner.  Doug DeCinces
X-ALT-DESC;FMTTYPE=text/html:Harry&#39\;s Dugout along with GTSM proudly presents Dodgers future ace Walker Buehler and Angels All-Star/Silver Slugger winner.&nbsp\; Doug DeCinces
LOCATION:Harry's Sport & Memorabilia & Barber Shop 1435 N. Montebello Blvd. Montebello\, CA 90640
UID:e.1156.3245
SEQUENCE:3
DTSTAMP:20260419T173351Z
URL:https://www.montebellochamber.org/events/details/pro-baseball-celebrity-appearance-at-harry-s-3245
END:VEVENT

END:VCALENDAR
