BEGIN:VCALENDAR
VERSION:2.0
PRODID:-//ChamberMaster//Event Calendar 2.0//EN
METHOD:PUBLISH
X-PUBLISHED-TTL:P3D
REFRESH-INTERVAL:P3D
CALSCALE:GREGORIAN
BEGIN:VEVENT
DTSTART:20190601T183000Z
DTEND:20190601T203000Z
X-MICROSOFT-CDO-ALLDAYEVENT:FALSE
SUMMARY:Pro Baseball Celebrity Appearance at Harry's
DESCRIPTION:Harry's Dugout  proudly presents Dodgers future ace Walker Buehler.
X-ALT-DESC;FMTTYPE=text/html:Harry&#39\;s Dugout&nbsp\; proudly presents Dodgers future ace Walker Buehler.
LOCATION:Harry's Sport & Memorabilia & Barber Shop 1435 N. Montebello Blvd. Montebello\, CA 90640
UID:e.1156.3312
SEQUENCE:3
DTSTAMP:20260419T130433Z
URL:https://www.montebellochamber.org/events/details/pro-baseball-celebrity-appearance-at-harry-s-3312
END:VEVENT

END:VCALENDAR
