BEGIN:VCALENDAR
VERSION:2.0
PRODID:-//ChamberMaster//Event Calendar 2.0//EN
METHOD:PUBLISH
X-PUBLISHED-TTL:P3D
REFRESH-INTERVAL:P3D
CALSCALE:GREGORIAN
BEGIN:VEVENT
DTSTART;VALUE=DATE:20180421
DTEND;VALUE=DATE:20180422
TRANSP:TRANSPARENT
X-MICROSOFT-CDO-ALLDAYEVENT:TRUE
SUMMARY:Prom Preview
DESCRIPTION:Join students from Montebello Unified School District to preview the latest fashion for prom. Special guest Alex Gervasi from 102.7 KIIS-FM will emcee the event. \n\n\n\nStop by Simon Guest Services to purchase a reserved seat ticket for Prom Preview to support Simon Youth Foundation and receive a $10 retailer gift card and swag bag. Seating is limited.
X-ALT-DESC;FMTTYPE=text/html:Join students from Montebello Unified School District to preview the latest fashion for prom. Special guest Alex Gervasi from 102.7 KIIS-FM&nbsp\;will emcee the event.&nbsp\;<br />\n<br />\nStop by Simon Guest Services to purchase a reserved seat ticket for Prom Preview to support Simon Youth Foundation and receive a $10 retailer gift card and swag bag. Seating is limited.
LOCATION:The Shops at Montebello 2134 Montebello Town Center Dr. Montebello\, CA 90640
UID:e.1156.2511
SEQUENCE:3
DTSTAMP:20260419T143021Z
URL:https://www.montebellochamber.org/events/details/prom-preview-2511
END:VEVENT

END:VCALENDAR
