BEGIN:VCALENDAR
VERSION:2.0
PRODID:-//ChamberMaster//Event Calendar 2.0//EN
METHOD:PUBLISH
X-PUBLISHED-TTL:P3D
REFRESH-INTERVAL:P3D
CALSCALE:GREGORIAN
BEGIN:VEVENT
DTSTART:20181213T190000Z
DTEND:20181214T040000Z
X-MICROSOFT-CDO-ALLDAYEVENT:FALSE
SUMMARY:Quiet Cannon Presents 2018 Share a Holiday
DESCRIPTION:Share a Holiday Annual Celebration in the Crystal Ballroom \n\nLunch: $26 per person 11-4pm  \n\nDinner: $32 per person 6pm-12am
X-ALT-DESC;FMTTYPE=text/html:Share a Holiday Annual Celebration in the Crystal Ballroom&nbsp\;<br />\nLunch: $26 per person 11-4pm&nbsp\;&nbsp\;<br />\nDinner: $32 per person 6pm-12am
LOCATION:Quiet Cannon 901 Via San Clemente Montebello\, CA 90640
UID:e.1156.2871
SEQUENCE:3
DTSTAMP:20260419T160113Z
URL:https://www.montebellochamber.org/events/details/quiet-cannon-presents-2018-share-a-holiday-2871
END:VEVENT

END:VCALENDAR
