BEGIN:VCALENDAR
VERSION:2.0
PRODID:-//ChamberMaster//Event Calendar 2.0//EN
METHOD:PUBLISH
X-PUBLISHED-TTL:P3D
REFRESH-INTERVAL:P3D
CALSCALE:GREGORIAN
BEGIN:VEVENT
DTSTART;VALUE=DATE:20141018
DTEND;VALUE=DATE:20141019
TRANSP:TRANSPARENT
X-MICROSOFT-CDO-ALLDAYEVENT:TRUE
SUMMARY:Ralph Mosikian Memorial Poker Tournament
DESCRIPTION:The Commerce Casino Presents the 5th Annual Ralph Mosikian Memorial Poker Tournament\n\nNO LIMIT HOLD'EM WITH REBUYS!\n\n$125 Buy-in includes full buffet\n\nSilent Auction Organized by Mesrobian Support Group\n\n\n\nGUARANTEED $10K PAYOUT!\n\n1ST PLACE IS GUARANTEED $5K\n\n\n\nRegistration Highly Recommended\n\nCall Anto B (323) 377-8006 or Arman (323) 821-9593\n\nNon-tournament dinner admission $30
X-ALT-DESC;FMTTYPE=text/html:<strong>The Commerce Casino Presents the 5th Annual Ralph Mosikian Memorial Poker Tournament</strong><br />\nNO LIMIT HOLD&#39\;EM WITH REBUYS!<br />\n$125 Buy-in includes full buffet<br />\nSilent Auction Organized by Mesrobian Support Group<br />\n<br />\nGUARANTEED $10K PAYOUT!<br />\n1ST PLACE IS GUARANTEED $5K<br />\n<br />\nRegistration Highly Recommended<br />\nCall Anto B (323) 377-8006 or Arman (323) 821-9593<br />\nNon-tournament dinner admission $30<br />\n&nbsp\;
LOCATION:The Commerce Casino 6131 Telegraph Road\, Commerce
UID:e.1156.1092
SEQUENCE:3
DTSTAMP:20260419T130801Z
URL:https://www.montebellochamber.org/events/details/ralph-mosikian-memorial-poker-tournament-10-18-2014-1092
END:VEVENT

END:VCALENDAR
