BEGIN:VCALENDAR
VERSION:2.0
PRODID:-//ChamberMaster//Event Calendar 2.0//EN
METHOD:PUBLISH
X-PUBLISHED-TTL:P3D
REFRESH-INTERVAL:P3D
CALSCALE:GREGORIAN
BEGIN:VEVENT
DTSTART:20190314T013000Z
DTEND:20190314T040000Z
X-MICROSOFT-CDO-ALLDAYEVENT:FALSE
SUMMARY:Recycling Ambassador Training
DESCRIPTION:Athens Services is offering a Free Recycling Ambassador Training on for apartment tenants\, owners\, HOA members\, onsite managers\, & custodian staff. This is a great opportunity to learn how to work with your landlord and peers to identify & implement solutions.  Open to Athens' RecycLA customers only.  RSVP Required.\n\n\n\nSign up for this FREE event by clicking on the Event Registration link or send an email with any questions.
X-ALT-DESC;FMTTYPE=text/html:<span id="react-root"><span title="Edited">Athens Services is offering a Free Recycling Ambassador Training on for apartment tenants\, owners\, HOA members\, onsite managers\, &amp\; custodian staff. This is a great opportunity to learn how to work with your landlord and peers to identify &amp\; implement solutions.&nbsp\; Open to Athens&#39\; RecycLA customers only.&nbsp\; RSVP Required.<br />\n<br />\nSign up for this FREE event by clicking on the Event Registration link or send an email with any questions. </span></span>
LOCATION:First Unitarian Church of Los Angeles 2936 W. 8th Street Los Angeles\, CA 90005
UID:e.1156.3248
SEQUENCE:3
DTSTAMP:20260420T142534Z
URL:https://www.montebellochamber.org/events/details/recycling-ambassador-training-3248
END:VEVENT

END:VCALENDAR
