BEGIN:VCALENDAR
VERSION:2.0
PRODID:-//ChamberMaster//Event Calendar 2.0//EN
METHOD:PUBLISH
X-PUBLISHED-TTL:P3D
REFRESH-INTERVAL:P3D
CALSCALE:GREGORIAN
BEGIN:VEVENT
DTSTART:20180325T190000Z
DTEND:20180326T020000Z
X-MICROSOFT-CDO-ALLDAYEVENT:FALSE
SUMMARY:Reggae Brunch with Rafa & Porque Si
DESCRIPTION:Join us this Sunday\, March 25th for another Brunch Series!\n\n\n\nIt's reggae brunch with Rafa & Porque Si and Tacos La Bomba. Food will be served out back from 12pm-7pm and the band plays from 2:30pm-5:30pm. \n\n\n\nFamiles and dogs welcome. No cover.
X-ALT-DESC;FMTTYPE=text/html:<span style="color: rgb(75\, 79\, 86)\; font-family: Helvetica\, Arial\, sans-serif\; font-size: 14px\;">Join us this Sunday\, March 25th for another Brunch Series!</span><br style="color: rgb(75\, 79\, 86)\; font-family: Helvetica\, Arial\, sans-serif\; font-size: 14px\;" />\n<br style="color: rgb(75\, 79\, 86)\; font-family: Helvetica\, Arial\, sans-serif\; font-size: 14px\;" />\n<span style="color: rgb(75\, 79\, 86)\; font-family: Helvetica\, Arial\, sans-serif\; font-size: 14px\;">It&#39\;s reggae brunch with&nbsp\;</span><a href="https://www.facebook.com/RafaandPorqueSi/" style="color: rgb(54\, 88\, 153)\; cursor: pointer\; text-decoration-line: none\; font-family: Helvetica\, Arial\, sans-serif\; font-size: 14px\;">Rafa &amp\; Porque Si</a><span style="color: rgb(75\, 79\, 86)\; font-family: Helvetica\, Arial\, sans-serif\; font-size: 14px\;">&nbsp\;and&nbsp\;</span><a href="https://www.facebook.com/Tacos-La-Bomba-1055614577814455/" style="color: rgb(54\, 88\, 153)\; cursor: pointer\; text-decoration-line: none\; font-family: Helvetica\, Arial\, sans-serif\; font-size: 14px\;">Tacos La Bomba</a><span style="color: rgb(75\, 79\, 86)\; font-family: Helvetica\, Arial\, sans-serif\; font-size: 14px\;">. Food will be served out back from 12pm-7pm and the band plays from 2:30pm-5:30pm.&nbsp\;</span><br style="color: rgb(75\, 79\, 86)\; font-family: Helvetica\, Arial\, sans-serif\; font-size: 14px\;" />\n<br style="color: rgb(75\, 79\, 86)\; font-family: Helvetica\, Arial\, sans-serif\; font-size: 14px\;" />\n<span style="color: rgb(75\, 79\, 86)\; font-family: Helvetica\, Arial\, sans-serif\; font-size: 14px\;">Familes and dogs welcome. No cover.</span>
LOCATION:603 W. Whittier Blvd. Montebello\, CA 90640
UID:e.1156.2515
SEQUENCE:3
DTSTAMP:20260419T143317Z
URL:https://www.montebellochamber.org/events/details/reggae-brunch-with-rafa-porque-si-2515
END:VEVENT

END:VCALENDAR
