BEGIN:VCALENDAR
VERSION:2.0
PRODID:-//ChamberMaster//Event Calendar 2.0//EN
METHOD:PUBLISH
X-PUBLISHED-TTL:P3D
REFRESH-INTERVAL:P3D
CALSCALE:GREGORIAN
BEGIN:VEVENT
DTSTART:20180911T233000Z
DTEND:20180912T010000Z
X-MICROSOFT-CDO-ALLDAYEVENT:FALSE
SUMMARY:Remembering 9/11 Walk & Commemorative Ceremony
DESCRIPTION:The City of Montebello will commemorate the tragic events of 9/11 with a walk beginning at 4:45 p.m. at the corner of 10th Street and Whittier Blvd. to the Memorial Wall at City Park.
X-ALT-DESC;FMTTYPE=text/html:The City of Montebello will commemorate the tragic events of 9/11 with a walk beginning at 4:45 p.m. at the corner of 10th Street and Whittier Blvd. to the Memorial Wall at City Park.
LOCATION:City Park 1301 W. Whittier Blvd. Montebello\, Ca 90640
UID:e.1156.2855
SEQUENCE:3
DTSTAMP:20260419T202021Z
URL:https://www.montebellochamber.org/events/details/remembering-9-11-walk-commemorative-ceremony-2855
END:VEVENT

END:VCALENDAR
