BEGIN:VCALENDAR
VERSION:2.0
PRODID:-//ChamberMaster//Event Calendar 2.0//EN
METHOD:PUBLISH
X-PUBLISHED-TTL:P3D
REFRESH-INTERVAL:P3D
CALSCALE:GREGORIAN
BEGIN:VEVENT
DTSTART:20190820T190000Z
DTEND:20190820T203000Z
X-MICROSOFT-CDO-ALLDAYEVENT:FALSE
SUMMARY:Rep. Sanchez' Immigration Forum
DESCRIPTION:Congresswoman Linda Sanchez will be hosting\n\nan Immigration Community Forum at the Montebello Senior Center on August 20th. \n\n\n\nDuring the event\, Congresswoman Sanchez will provide an update on immigration policy\, a USCIS officer will provide a presentation on benefits and petitions\; including citizenship\, LPR renewals\, DACA renewals\, and family-based petition.\n\n\n\nA USCIS officer will also be available to answer any case specific questions. All information will be available in English and Spanish.\n\n\n\nNALEO and the Mexican American Opportunity Foundation (MAOF) will also be in attendance to provide resources on free immigration services.\n\n\n\nThe forum is a great opportunity for residents to find out the status of their applications or learn if they're eligible for any immigration benefits
X-ALT-DESC;FMTTYPE=text/html:Congresswoman Linda <span style="color: rgb(84\, 84\, 84)\; font-family: Roboto\, Arial\, sans-serif\;">Sanchez</span>&nbsp\;will be hosting<br />\nan <strong>Immigration Community Forum at the Montebello Senior Center on August 20th.&nbsp\;</strong><br />\n<br />\nDuring the event\, Congresswoman S<span style="color: rgb(84\, 84\, 84)\; font-family: Roboto\, Arial\, sans-serif\;">a</span>nchez will provide an update on immigration policy\, a USCIS officer will provide a presentation on benefits and petitions\; including citizenship\, LPR renewals\, DACA renewals\, and family-based petition.<br />\n<br />\nA USCIS officer will also be available to answer any case specific questions. All information will be available in English and Spanish.<br />\n<br />\nNALEO and the Mexican American Opportunity Foundation (MAOF) will also be in attendance to provide resources on free immigration services.<br />\n<br />\nThe forum is a great opportunity for residents to find out the status of their applications or learn if they&#39\;re eligible for any immigration benefits&nbsp\;
LOCATION:Montebello Senior Center 115 S. Taylor Ave Montebello\, CA 90640
UID:e.1156.3384
SEQUENCE:3
DTSTAMP:20260419T130155Z
URL:https://www.montebellochamber.org/events/details/rep-sanchez-immigration-forum-3384
END:VEVENT

END:VCALENDAR
