BEGIN:VCALENDAR
VERSION:2.0
PRODID:-//ChamberMaster//Event Calendar 2.0//EN
METHOD:PUBLISH
X-PUBLISHED-TTL:P3D
REFRESH-INTERVAL:P3D
CALSCALE:GREGORIAN
BEGIN:VEVENT
DTSTART:20200618T223000Z
DTEND:20200619T000000Z
X-MICROSOFT-CDO-ALLDAYEVENT:FALSE
SUMMARY:Restaurant Re-opening-LA County Compliance
DESCRIPTION:Join LA County's Department of Consumer & Business Affairs along with partners Pacific Coast Regional and the L.A. Small Business Development Center.  Restaurant Re-opening-LA County Compliance.  Learn the latest requirements restaurant owners must do to keep their team\, customers and business safe.  The webinar is focused on LA county guidelines and will provide the regulations needed to stay in compliance with CDC recommendations to avoid risk and consequences.
X-ALT-DESC;FMTTYPE=text/html:Join LA County&#39\;s Department of Consumer &amp\; Business Affairs along with partners Pacific Coast Regional and the L.A. Small Business Development Center.&nbsp\; Restaurant Re-opening-LA County Compliance.&nbsp\; Learn the latest requirements restaurant owners must do to keep their team\, customers and business safe.&nbsp\; The webinar is focused on LA county guidelines and will provide the regulations needed to stay in compliance with CDC recommendations to avoid risk and consequences.
LOCATION:Learn the latest L.A. County guidelines to keep your team\, customers\, and business safe. RSVP here
UID:e.1156.3713
SEQUENCE:3
DTSTAMP:20260419T160111Z
URL:https://www.montebellochamber.org/events/details/restaurant-re-opening-la-county-compliance-3713
END:VEVENT

END:VCALENDAR
