BEGIN:VCALENDAR
VERSION:2.0
PRODID:-//ChamberMaster//Event Calendar 2.0//EN
METHOD:PUBLISH
X-PUBLISHED-TTL:P3D
REFRESH-INTERVAL:P3D
CALSCALE:GREGORIAN
BEGIN:VEVENT
DTSTART:20160729T003000Z
DTEND:20160729T013000Z
X-MICROSOFT-CDO-ALLDAYEVENT:FALSE
SUMMARY:Revolution Financial Management Seminar
DESCRIPTION:Revolution Financial Management Seminar\n\nTopic: How to Improve Your Retirement\n\nContact James Chu at 323-895-9186 to reserve your seating.\n\nAll attendees will receive a free copy of Rich Man Poor Bank just for showing up!
X-ALT-DESC;FMTTYPE=text/html:<strong><span style="color:#800000\;">Revolution Financial Management Seminar</span></strong><br />\n<font color="#000000">Topic: How to Improve Your Retirement</font><br />\n<strong>Contact James Chu at 323-895-9186 to reserve your seating.</strong><br />\n<strong><span style="color:#A52A2A\;">All attendees will receive a free copy of Rich Man Poor Bank just for showing up!</span></strong>
LOCATION:Montebello Chamber of Commerce Office 109 N. 19th Street Montebello\, CA 90640 323-721-1153
UID:e.1156.1486
SEQUENCE:3
DTSTAMP:20260419T202457Z
URL:https://www.montebellochamber.org/events/details/revolution-financial-management-seminar-07-28-2016-1486
END:VEVENT

END:VCALENDAR
