BEGIN:VCALENDAR
VERSION:2.0
PRODID:-//ChamberMaster//Event Calendar 2.0//EN
METHOD:PUBLISH
X-PUBLISHED-TTL:P3D
REFRESH-INTERVAL:P3D
CALSCALE:GREGORIAN
BEGIN:VEVENT
DTSTART:20181206T200000Z
DTEND:20181206T213000Z
X-MICROSOFT-CDO-ALLDAYEVENT:FALSE
SUMMARY:Ribbon Cutting - Always Special Perfumes & Gifts
DESCRIPTION:Ribbon Cutting - Always Special Perfumes & Gifts\n\nCome and help us welcome our new chamber member at their location and be part of their ribbon cutting ceremony.
X-ALT-DESC;FMTTYPE=text/html:Ribbon Cutting - Always Special Perfumes &amp\; Gifts<br />\nCome and help us welcome our new chamber member at their location and be part of their ribbon cutting ceremony.&nbsp\;&nbsp\;
LOCATION:Always Special Perfumes & Gifts 1611 W. Whittier Blvd. Montebello\, CA 90640
UID:e.1156.3108
SEQUENCE:3
DTSTAMP:20260419T143521Z
URL:https://www.montebellochamber.org/events/details/ribbon-cutting-always-special-perfumes-gifts-3108
END:VEVENT

END:VCALENDAR
