BEGIN:VCALENDAR
VERSION:2.0
PRODID:-//ChamberMaster//Event Calendar 2.0//EN
METHOD:PUBLISH
X-PUBLISHED-TTL:P3D
REFRESH-INTERVAL:P3D
CALSCALE:GREGORIAN
BEGIN:VEVENT
DTSTART:20190405T190000Z
DTEND:20190405T203000Z
X-MICROSOFT-CDO-ALLDAYEVENT:FALSE
SUMMARY:Ribbon Cutting at Angry Horse Brewing
DESCRIPTION:Please join us to celebrate our chamber member's 2nd Year Anniversary\, while building relationships.
X-ALT-DESC;FMTTYPE=text/html:Please join us to celebrate our chamber member&#39\;s <em>2nd Year Anniversary</em>\, while building relationships.&nbsp\;&nbsp\;
LOCATION:Angry Horse Brewing 603 W. Whittier Blvd. Montebello\, CA 90640
UID:e.1156.3276
SEQUENCE:3
DTSTAMP:20260419T124504Z
URL:https://www.montebellochamber.org/events/details/ribbon-cutting-at-angry-horse-brewing-3276
END:VEVENT

END:VCALENDAR
