BEGIN:VCALENDAR
VERSION:2.0
PRODID:-//ChamberMaster//Event Calendar 2.0//EN
METHOD:PUBLISH
X-PUBLISHED-TTL:P3D
REFRESH-INTERVAL:P3D
CALSCALE:GREGORIAN
BEGIN:VEVENT
DTSTART:20190606T190000Z
DTEND:20190606T203000Z
X-MICROSOFT-CDO-ALLDAYEVENT:FALSE
SUMMARY:Ribbon Cutting at BLVD Walk
DESCRIPTION:Ribbon Cutting ceremony at BLVD Walk\n\nPlease join us to help celebrate our new member and network with other chamber members while building relationships.
X-ALT-DESC;FMTTYPE=text/html:Ribbon Cutting ceremony at BLVD Walk<br />\nPlease join us to help celebrate our new member and network with other chamber members while building relationships.&nbsp\;
LOCATION:BLVD Walk 114 N. 6th Street Montebello\, CA 90640
UID:e.1156.3326
SEQUENCE:3
DTSTAMP:20260419T130236Z
URL:https://www.montebellochamber.org/events/details/ribbon-cutting-at-blvd-walk-3326
END:VEVENT

END:VCALENDAR
