BEGIN:VCALENDAR
VERSION:2.0
PRODID:-//ChamberMaster//Event Calendar 2.0//EN
METHOD:PUBLISH
X-PUBLISHED-TTL:P3D
REFRESH-INTERVAL:P3D
CALSCALE:GREGORIAN
BEGIN:VEVENT
DTSTART:20190725T190000Z
DTEND:20190725T203000Z
X-MICROSOFT-CDO-ALLDAYEVENT:FALSE
SUMMARY:Ribbon Cutting at K-9 Protective Services\, Inc.
DESCRIPTION:Ribbon Cutting at K-9 Protective Services\, Inc.!\n\nPlease join us to help celebrate our new member and network with other chamber members while building relationships.
X-ALT-DESC;FMTTYPE=text/html:Ribbon Cutting at K-9 Protective Services\, Inc.!<br />\nPlease join us to help celebrate our new member and network with other chamber members while building relationships.&nbsp\;
LOCATION:K-9 Protective Services\, Inc. 1800 W. Beverly Blvd. Suite 203 Montebello\, CA 90640
UID:e.1156.3331
SEQUENCE:3
DTSTAMP:20260419T090839Z
URL:https://www.montebellochamber.org/events/details/ribbon-cutting-at-k-9-protective-services-inc-3331
END:VEVENT

END:VCALENDAR
