BEGIN:VCALENDAR
VERSION:2.0
PRODID:-//ChamberMaster//Event Calendar 2.0//EN
METHOD:PUBLISH
X-PUBLISHED-TTL:P3D
REFRESH-INTERVAL:P3D
CALSCALE:GREGORIAN
BEGIN:VEVENT
DTSTART:20190816T190000Z
DTEND:20190816T203000Z
X-MICROSOFT-CDO-ALLDAYEVENT:FALSE
SUMMARY:Ribbon Cutting at La Bufadora Baja Grill
DESCRIPTION:Come and enjoy some refreshments as we celebrate the ribbon cutting of our new chamber member while networking with fellow chamber members.  The perfect opportunity to exchange business cards\, build relationships\, and build business.
X-ALT-DESC;FMTTYPE=text/html:Come and enjoy some refreshments as we celebrate the ribbon cutting of our new chamber member while networking with fellow chamber members.&nbsp\; The perfect opportunity to exchange business cards\, build relationships\, and build business.&nbsp\;&nbsp\;
LOCATION:La Bufadora Baja Grill 2809 Via Campo #H Montebello\, CA 90640
UID:e.1156.3388
SEQUENCE:3
DTSTAMP:20260419T130531Z
URL:https://www.montebellochamber.org/events/details/ribbon-cutting-at-la-bufadora-baja-grill-3388
END:VEVENT

END:VCALENDAR
