BEGIN:VCALENDAR
VERSION:2.0
PRODID:-//ChamberMaster//Event Calendar 2.0//EN
METHOD:PUBLISH
X-PUBLISHED-TTL:P3D
REFRESH-INTERVAL:P3D
CALSCALE:GREGORIAN
BEGIN:VEVENT
DTSTART:20190613T190000Z
DTEND:20190613T203000Z
X-MICROSOFT-CDO-ALLDAYEVENT:FALSE
SUMMARY:Ribbon Cutting at La Paloma Grill
DESCRIPTION:Ribbon Cutting ceremony at La Paloma Grill \n\nPlease join us to help celebrate our new member and network with other chamber members while building relationships.
X-ALT-DESC;FMTTYPE=text/html:Ribbon Cutting ceremony at La Paloma Grill&nbsp\;<br />\nPlease join us to help celebrate our new member and network with other chamber members while building relationships.&nbsp\;
LOCATION:La Paloma Grill 410 W. Whittier Blvd. Montebello\, CA 90640
UID:e.1156.3327
SEQUENCE:3
DTSTAMP:20260419T130554Z
URL:https://www.montebellochamber.org/events/details/ribbon-cutting-at-la-paloma-grill-3327
END:VEVENT

END:VCALENDAR
