BEGIN:VCALENDAR
VERSION:2.0
PRODID:-//ChamberMaster//Event Calendar 2.0//EN
METHOD:PUBLISH
X-PUBLISHED-TTL:P3D
REFRESH-INTERVAL:P3D
CALSCALE:GREGORIAN
BEGIN:VEVENT
DTSTART:20190926T190000Z
DTEND:20190926T203000Z
X-MICROSOFT-CDO-ALLDAYEVENT:FALSE
SUMMARY:Ribbon Cutting at Montebello Children's Dentistry
DESCRIPTION:Ribbon Cutting at Montebello Children's Dentistry! \n\nPlease join us to help celebrate our new member and network with other chamber members while building relationships.
X-ALT-DESC;FMTTYPE=text/html:<span style="color: rgb(51\, 51\, 51)\; font-family: sans-serif\, Arial\, Verdana\, &quot\;Trebuchet MS&quot\;\; font-size: 13px\; background-color: rgb(255\, 255\, 255)\;">Ribbon Cutting at Montebello Children&#39\;s Dentistry!&nbsp\;</span><br style="color: rgb(51\, 51\, 51)\; font-family: sans-serif\, Arial\, Verdana\, &quot\;Trebuchet MS&quot\;\; font-size: 13px\;" />\n<span style="color: rgb(51\, 51\, 51)\; font-family: sans-serif\, Arial\, Verdana\, &quot\;Trebuchet MS&quot\;\; font-size: 13px\; background-color: rgb(255\, 255\, 255)\;">Please join us to help celebrate our new member and network with other chamber members while building relationships.&nbsp\;</span>
LOCATION:Montebello Children's Dentistry 235 E. Beverly Blvd. Montebello\, CA 90640
UID:e.1156.3382
SEQUENCE:3
DTSTAMP:20260419T190233Z
URL:https://www.montebellochamber.org/events/details/ribbon-cutting-at-montebello-children-s-dentistry-3382
END:VEVENT

END:VCALENDAR
