BEGIN:VCALENDAR
VERSION:2.0
PRODID:-//ChamberMaster//Event Calendar 2.0//EN
METHOD:PUBLISH
X-PUBLISHED-TTL:P3D
REFRESH-INTERVAL:P3D
CALSCALE:GREGORIAN
BEGIN:VEVENT
DTSTART:20190509T190000Z
DTEND:20190509T203000Z
X-MICROSOFT-CDO-ALLDAYEVENT:FALSE
SUMMARY:Ribbon Cutting at Stella Health Insurance Agency
DESCRIPTION:Ribbon Cutting at Stella Health Insurance Agency \n\nCome and enjoy some refreshments as we celebrate the ribbon cutting of our new chamber member while networking with fellow chamber members.  The perfect opportunity to exchange business cards\, build relationships\, and build business.
X-ALT-DESC;FMTTYPE=text/html:Ribbon Cutting at Stella Health Insurance Agency&nbsp\;<br />\nCome and enjoy some refreshments as we celebrate the ribbon cutting of our new chamber member while networking with fellow chamber members.&nbsp\; The perfect opportunity to exchange business cards\, build relationships\, and build business.&nbsp\;
LOCATION:Stella Health Insurance Agency 2210 W. Beverly Blvd. Montebello\, CA 90640
UID:e.1156.3292
SEQUENCE:3
DTSTAMP:20260420T130030Z
URL:https://www.montebellochamber.org/events/details/ribbon-cutting-at-stella-health-insurance-agency-3292
END:VEVENT

END:VCALENDAR
