BEGIN:VCALENDAR
VERSION:2.0
PRODID:-//ChamberMaster//Event Calendar 2.0//EN
METHOD:PUBLISH
X-PUBLISHED-TTL:P3D
REFRESH-INTERVAL:P3D
CALSCALE:GREGORIAN
BEGIN:VEVENT
DTSTART:20160726T180000Z
DTEND:20160726T190000Z
X-MICROSOFT-CDO-ALLDAYEVENT:FALSE
SUMMARY:Ribbon Cutting Ceremony - Adventist Health Physicians Network
DESCRIPTION:Ribbon Cutting Ceremony for \n\nAdventist Health Physician's Network
X-ALT-DESC;FMTTYPE=text/html:Ribbon Cutting Ceremony for&nbsp\;<br />\nAdventist Health Physician&#39\;s Network
LOCATION:Adventist Health Physician's Network 1934 W. Beverly Blvd. Montebello\, CA 90640 323-558-7470
UID:e.1156.1485
SEQUENCE:3
DTSTAMP:20260419T202732Z
URL:https://www.montebellochamber.org/events/details/ribbon-cutting-ceremony-adventist-health-physicians-network-07-26-2016-1485
END:VEVENT

END:VCALENDAR
