BEGIN:VCALENDAR
VERSION:2.0
PRODID:-//ChamberMaster//Event Calendar 2.0//EN
METHOD:PUBLISH
X-PUBLISHED-TTL:P3D
REFRESH-INTERVAL:P3D
CALSCALE:GREGORIAN
BEGIN:VEVENT
DTSTART:20130919T190000Z
DTEND:20130919T203000Z
X-MICROSOFT-CDO-ALLDAYEVENT:FALSE
SUMMARY:Ribbon Cutting Ceremony - Anamar Windows Mfg.
DESCRIPTION:Please Join Us In Honoring The Following Member in.....\n\nThe Ribbon Cutting Ceremony of AnaMar Windows Mfg.\n\n\n\nRSVP to Jacqueline@montebellochamber.org\n\n323-721-1153
X-ALT-DESC;FMTTYPE=text/html:<strong>Please Join Us In Honoring The Following Member in.....</strong><br />\n<strong>The <span style="color: rgb(255\, 0\, 0)\;">Ribbon</span> Cutting Ceremony of AnaMar Windows Mfg.</strong><br />\n<br />\n<strong>RSVP to Jacqueline@montebellochamber.org<br />\n323-721-1153</strong>
LOCATION:AnaMar Windows Mfg. 1145 S. Greenwood Avenue Montebello\, CA 90640
UID:e.1156.946
SEQUENCE:3
DTSTAMP:20260419T173632Z
URL:https://www.montebellochamber.org/events/details/ribbon-cutting-ceremony-anamar-windows-mfg-09-19-2013-946
END:VEVENT

END:VCALENDAR
