BEGIN:VCALENDAR
VERSION:2.0
PRODID:-//ChamberMaster//Event Calendar 2.0//EN
METHOD:PUBLISH
X-PUBLISHED-TTL:P3D
REFRESH-INTERVAL:P3D
CALSCALE:GREGORIAN
BEGIN:VEVENT
DTSTART:20150618T190000Z
DTEND:20150618T203000Z
X-MICROSOFT-CDO-ALLDAYEVENT:FALSE
SUMMARY:Ribbon Cutting Ceremony - El Pescador
DESCRIPTION:Please join us for the Ribbon Cutting Ceremony of El Pescador
X-ALT-DESC;FMTTYPE=text/html:Please join us for the Ribbon Cutting Ceremony of El Pescador&nbsp\;&nbsp\;&nbsp\;
LOCATION:116 Beverly Blvd. Montebello\, CA 90640
UID:e.1156.1404
SEQUENCE:3
DTSTAMP:20260419T231407Z
URL:https://www.montebellochamber.org/events/details/ribbon-cutting-ceremony-el-pescador-06-18-2015-1404
END:VEVENT

END:VCALENDAR
