BEGIN:VCALENDAR
VERSION:2.0
PRODID:-//ChamberMaster//Event Calendar 2.0//EN
METHOD:PUBLISH
X-PUBLISHED-TTL:P3D
REFRESH-INTERVAL:P3D
CALSCALE:GREGORIAN
BEGIN:VEVENT
DTSTART:20130321T190000Z
DTEND:20130321T203000Z
X-MICROSOFT-CDO-ALLDAYEVENT:FALSE
SUMMARY:Ribbon Cutting Ceremony - H&R Block
DESCRIPTION:Please join us for the Ribbon Cutting Ceremony of H&R Block\n\n\n\nStep away for lunch and enjoy tasty treats while networking with your fellow chamber members.  The perfect opportunity to exchange business cards\, build relationships and build business.
X-ALT-DESC;FMTTYPE=text/html:<strong>Please join us for the Ribbon Cutting Ceremony of H&amp\;R Block</strong><br>\n<br>\nStep away for lunch and enjoy tasty treats while networking with your fellow chamber members.&nbsp\; The perfect opportunity to exchange business cards\, build relationships and build business.
LOCATION:H&R Block 878 West Beverly Blvd. Montebello CA 90640
UID:e.1156.690
SEQUENCE:3
DTSTAMP:20260419T173039Z
URL:https://www.montebellochamber.org/events/details/ribbon-cutting-ceremony-h-r-block-03-21-2013-690
END:VEVENT

END:VCALENDAR
