BEGIN:VCALENDAR
VERSION:2.0
PRODID:-//ChamberMaster//Event Calendar 2.0//EN
METHOD:PUBLISH
X-PUBLISHED-TTL:P3D
REFRESH-INTERVAL:P3D
CALSCALE:GREGORIAN
BEGIN:VEVENT
DTSTART:20160128T200000Z
DTEND:20160128T213000Z
X-MICROSOFT-CDO-ALLDAYEVENT:FALSE
SUMMARY:Ribbon Cutting Ceremony - Quinones & Co. Inc.
DESCRIPTION:Please join us for the Ribbon Cutting Ceremony of Quinones & Co.\, Inc.\n\nStep away for lunch and enjoy tasty treats while networking with your fellow chamber members.  The perfect opportunity to exchange business cards\, build relationships and build business.
X-ALT-DESC;FMTTYPE=text/html:<strong>Please join us for the Ribbon Cutting Ceremony of Quinones &amp\; Co.\, Inc.</strong><br />\nStep away for lunch and enjoy tasty treats while networking with your fellow chamber members.&nbsp\; The perfect opportunity to exchange business cards\, build relationships and build business.<br />\n&nbsp\;
LOCATION:3507 W. Beverly Blvd. Montebello\, CA 90640
UID:e.1156.1443
SEQUENCE:3
DTSTAMP:20260419T184734Z
URL:https://www.montebellochamber.org/events/details/ribbon-cutting-ceremony-quinones-co-inc-01-28-2016-1443
END:VEVENT

END:VCALENDAR
