BEGIN:VCALENDAR
VERSION:2.0
PRODID:-//ChamberMaster//Event Calendar 2.0//EN
METHOD:PUBLISH
X-PUBLISHED-TTL:P3D
REFRESH-INTERVAL:P3D
CALSCALE:GREGORIAN
BEGIN:VEVENT
DTSTART:20130926T220000Z
DTEND:20130926T233000Z
X-MICROSOFT-CDO-ALLDAYEVENT:FALSE
SUMMARY:Ribbon Cutting Ceremony - The Flame Broiler
DESCRIPTION:Please Join Us In Honoring The Following Members in.....\n\nThe Ribbon Cutting Ceremony of\n\nThe Flame Broiler\n\n\n\nRSVP To: Jacqueline@montebellochamber.org\n\n323-721-1153
X-ALT-DESC;FMTTYPE=text/html:<strong>Please Join Us In Honoring The Following Members in.....<br />\nThe <span style="color: rgb(255\, 0\, 0)\;">Ribbon</span> Cutting Ceremony of<br />\nThe Flame Broiler<br />\n<br />\nRSVP To: Jacqueline@montebellochamber.org<br />\n323-721-1153</strong><br />\n
LOCATION:The Flame Broiler 2569 Via Campo Montebello\, CA 90640
UID:e.1156.947
SEQUENCE:3
DTSTAMP:20260419T173632Z
URL:https://www.montebellochamber.org/events/details/ribbon-cutting-ceremony-the-flame-broiler-09-26-2013-947
END:VEVENT

END:VCALENDAR
