BEGIN:VCALENDAR
VERSION:2.0
PRODID:-//ChamberMaster//Event Calendar 2.0//EN
METHOD:PUBLISH
X-PUBLISHED-TTL:P3D
REFRESH-INTERVAL:P3D
CALSCALE:GREGORIAN
BEGIN:VEVENT
DTSTART:20160524T190000Z
DTEND:20160524T203000Z
X-MICROSOFT-CDO-ALLDAYEVENT:FALSE
SUMMARY:Ribbon Cutting Chef Chen
DESCRIPTION:Ribbon Cutting Celebration - Chef Chen
X-ALT-DESC;FMTTYPE=text/html:Ribbon Cutting Celebration - Chef Chen
LOCATION:Chef Chen 137 N. Montebello Blvd. - Suite K Montebello\, CA 90640
UID:e.1156.1477
SEQUENCE:3
DTSTAMP:20260419T231059Z
URL:https://www.montebellochamber.org/events/details/ribbon-cutting-chef-chen-05-24-2016-1477
END:VEVENT

END:VCALENDAR
