BEGIN:VCALENDAR
VERSION:2.0
PRODID:-//ChamberMaster//Event Calendar 2.0//EN
METHOD:PUBLISH
X-PUBLISHED-TTL:P3D
REFRESH-INTERVAL:P3D
CALSCALE:GREGORIAN
BEGIN:VEVENT
DTSTART:20150627T170000Z
DTEND:20150627T200000Z
X-MICROSOFT-CDO-ALLDAYEVENT:FALSE
SUMMARY:Ribbon Cutting China Fisheries North America
DESCRIPTION:Ribbon Cutting & Grand Opening Ceremony\n\nChina Fisheries North America\, Inc.\n\nInvites you to celebrate their new location!\n\nChampagne and lunch will be served
X-ALT-DESC;FMTTYPE=text/html:Ribbon Cutting &amp\; Grand Opening Ceremony<br />\nChina Fisheries North America\, Inc.<br />\nInvites you to celebrate their new location!<br />\nChampagne and lunch will be served
LOCATION:1136-1150 S. Vail Avenue Montebello\, CA 90640
UID:e.1156.1405
SEQUENCE:3
DTSTAMP:20260419T215743Z
URL:https://www.montebellochamber.org/events/details/ribbon-cutting-china-fisheries-north-america-06-27-2015-1405
END:VEVENT

END:VCALENDAR
