BEGIN:VCALENDAR
VERSION:2.0
PRODID:-//ChamberMaster//Event Calendar 2.0//EN
METHOD:PUBLISH
X-PUBLISHED-TTL:P3D
REFRESH-INTERVAL:P3D
CALSCALE:GREGORIAN
BEGIN:VEVENT
DTSTART:20150515T190000Z
DTEND:20150515T203000Z
X-MICROSOFT-CDO-ALLDAYEVENT:FALSE
SUMMARY:Ribbon Cutting Event - Denny's
DESCRIPTION:Please join us for the Ribbon Cutting Ceremony of\n\nDenny's
X-ALT-DESC;FMTTYPE=text/html:Please join us for the Ribbon Cutting Ceremony of<br />\n<strong>Denny&#39\;s</strong><br />\n<br />\n<br />\n<br />\n&nbsp\;
LOCATION:2727 Via Campo Montebello CA 90640
UID:e.1156.1394
SEQUENCE:3
DTSTAMP:20260419T202441Z
URL:https://www.montebellochamber.org/events/details/ribbon-cutting-event-denny-s-05-15-2015-1394
END:VEVENT

END:VCALENDAR
