BEGIN:VCALENDAR
VERSION:2.0
PRODID:-//ChamberMaster//Event Calendar 2.0//EN
METHOD:PUBLISH
X-PUBLISHED-TTL:P3D
REFRESH-INTERVAL:P3D
CALSCALE:GREGORIAN
BEGIN:VEVENT
DTSTART:20130627T190000Z
DTEND:20130627T203000Z
X-MICROSOFT-CDO-ALLDAYEVENT:FALSE
SUMMARY:Ribbon Cutting - Fit From The Ground Up
DESCRIPTION:Ribbon Cutting - Fit From The Ground Up
X-ALT-DESC;FMTTYPE=text/html:<strong><span style="color: rgb(255\, 0\, 0)\;">Ribbon Cutting </span></strong>- <strong>Fit From The Ground Up</strong><br />\n
LOCATION:1115 Washington Blvd. - Unit G Montebello\, CA 90640
UID:e.1156.926
SEQUENCE:3
DTSTAMP:20260419T130628Z
URL:https://www.montebellochamber.org/events/details/ribbon-cutting-fit-from-the-ground-up-06-27-2013-926
END:VEVENT

END:VCALENDAR
