BEGIN:VCALENDAR
VERSION:2.0
PRODID:-//ChamberMaster//Event Calendar 2.0//EN
METHOD:PUBLISH
X-PUBLISHED-TTL:P3D
REFRESH-INTERVAL:P3D
CALSCALE:GREGORIAN
BEGIN:VEVENT
DTSTART:20160114T000000Z
DTEND:20160114T030000Z
X-MICROSOFT-CDO-ALLDAYEVENT:FALSE
SUMMARY:Ribbon Cutting Floor & Decor
DESCRIPTION:Ribbon Cutting & Grand Opening for Floor & Decor\n\nJoin us and multiple chambers to welcome our newest member!
X-ALT-DESC;FMTTYPE=text/html:Ribbon Cutting &amp\; Grand Opening for Floor &amp\; Decor<br />\nJoin us and multiple chambers to welcome our newest member!<br />\n&nbsp\;
LOCATION:Floor & Decor 8925 Apollo Way Downey\, CA 90242
UID:e.1156.1440
SEQUENCE:3
DTSTAMP:20260419T183330Z
URL:https://www.montebellochamber.org/events/details/ribbon-cutting-floor-decor-01-13-2016-1440
END:VEVENT

END:VCALENDAR
